BEGIN:VCALENDAR
VERSION:2.0
PRODID:-//Wasing Estate - ECPv6.15.20//NONSGML v1.0//EN
CALSCALE:GREGORIAN
METHOD:PUBLISH
X-WR-CALNAME:Wasing Estate
X-ORIGINAL-URL:https://wasing.mrsdemo3.co.uk
X-WR-CALDESC:Events for Wasing Estate
REFRESH-INTERVAL;VALUE=DURATION:PT1H
X-Robots-Tag:noindex
X-PUBLISHED-TTL:PT1H
BEGIN:VTIMEZONE
TZID:Europe/London
BEGIN:DAYLIGHT
TZOFFSETFROM:+0000
TZOFFSETTO:+0100
TZNAME:BST
DTSTART:20250330T010000
END:DAYLIGHT
BEGIN:STANDARD
TZOFFSETFROM:+0100
TZOFFSETTO:+0000
TZNAME:GMT
DTSTART:20251026T010000
END:STANDARD
BEGIN:DAYLIGHT
TZOFFSETFROM:+0000
TZOFFSETTO:+0100
TZNAME:BST
DTSTART:20260329T010000
END:DAYLIGHT
BEGIN:STANDARD
TZOFFSETFROM:+0100
TZOFFSETTO:+0000
TZNAME:GMT
DTSTART:20261025T010000
END:STANDARD
BEGIN:DAYLIGHT
TZOFFSETFROM:+0000
TZOFFSETTO:+0100
TZNAME:BST
DTSTART:20270328T010000
END:DAYLIGHT
BEGIN:STANDARD
TZOFFSETFROM:+0100
TZOFFSETTO:+0000
TZNAME:GMT
DTSTART:20271031T010000
END:STANDARD
END:VTIMEZONE
BEGIN:VEVENT
DTSTART;TZID=Europe/London:20260620T000000
DTEND;TZID=Europe/London:20260620T235959
DTSTAMP:20260424T132218
CREATED:20260203T125358Z
LAST-MODIFIED:20260204T100439Z
UID:10000001-1781913600-1781999999@wasing.mrsdemo3.co.uk
SUMMARY:Solstice At Wasing
DESCRIPTION:
URL:https://wasing.mrsdemo3.co.uk/event/solstice-at-wasing/
ATTACH;FMTTYPE=image/jpeg:https://wasing.mrsdemo3.co.uk/wp-content/uploads/2026/01/Solstice-2000x1330-Web-Header-Banner-scaled.webp
END:VEVENT
END:VCALENDAR